BEGIN:VCALENDAR
VERSION:2.0
CALSCALE:GREGORIAN
PRODID:-//MyApp//Calendar 1.0//EN
BEGIN:VEVENT
METHOD:PUBLISH
UID:6974@regionalniportaly.cz
DTSTAMP:20260425T020536Z
DTSTART;VALUE=DATE:20160605
DTEND;VALUE=DATE:20160606
SUMMARY:Na kole dětem 2016 v Ivančicích
DESCRIPTION:Na kole dětem – veřejná cyklotour napříč Českou republikou startuje již po sedmé. Neváhejte a přidejte se.\nSpolečně pro dobrou věc\, malebnou krajinou na kolech….\n
LOCATION:Ivančice
END:VEVENT
END:VCALENDAR