BEGIN:VCALENDAR
VERSION:2.0
CALSCALE:GREGORIAN
PRODID:-//MyApp//Calendar 1.0//EN
BEGIN:VEVENT
METHOD:PUBLISH
UID:8041@regionalniportaly.cz
DTSTAMP:20260421T220648Z
DTSTART;VALUE=DATE:20161119
DTEND;VALUE=DATE:20161120
SUMMARY:S čerty nejsou žerty 19. a 20. 11.2016 – ZRUŠENO
DESCRIPTION:Divadlení představení v podání ochotníků Divadla "Na mýtině" \n\n19. 11. od 15 a 18 hodin\, 20. 11. od 16:00 hodin\, dělnický dům Oslavany\n\nVstupné 90 Kč\n\nPředprodej: 14. a 16. 11 od 17 do 18 hodin v Dělnickém domě
LOCATION:Oslavany
END:VEVENT
END:VCALENDAR