BEGIN:VCALENDAR
VERSION:2.0
CALSCALE:GREGORIAN
PRODID:-//MyApp//Calendar 1.0//EN
BEGIN:VEVENT
METHOD:PUBLISH
UID:8622@regionalniportaly.cz
DTSTAMP:20260424T204526Z
DTSTART;VALUE=DATE:20170210
DTEND;VALUE=DATE:20170211
SUMMARY:Ples města Ivančice
DESCRIPTION:Kdy: 10. února (pátek) ve 20.00 hod.\n\nKde: Restaurace a Music Club Mosillana Ivančice\n\nProgram:\n\n20.00 hod. Zahájení plesu\n\n21.30 hod. Pole Dance - Citadela Mefisto\n\n22.15 hod. Pole Dance - Citadela Mefisto\n\n23.30 hod. Losování tomboly\n\nNa klavír v restaurace bude hrát Jan Černý\n\nVstupné: 150 Kč\n\nPředprodej od 9. 1. 2017 v KIC Ivančice
LOCATION:Ivančice
END:VEVENT
END:VCALENDAR